BEGIN:VCALENDAR
VERSION:2.0
BEGIN:VEVENT
URL:https://masteriya.com/moia-stranitca/viewevent/remstroiekspo 
DTSTART:20121121T230000
DTEND:20121123T230000
SUMMARY:РЕМСТРОЙЭКСПО
DESCRIPTION:<p><strong> 
<ul>
<li>Строительные, отделочные материалы и изделия</li>
<li>Гидроизоляционные, теплоизоляционные и кровельные материалы</li>
<li>Лакокрасочная продукция</li>
<li>Системы водоснабжения, кондиционирования и вентиляции</li>
<li>Перегородки, лестницы, фасады</li>
<li>Оборудование и инструменты для строительства, реконструкции и ремонта</li>
<li>Металлоконструкции и металлоизделия: скобяные изделия, фурнитура, метизы, замки и запорные  устройства</li>
<li>Сантехнические изделия, строительная керамика</li>
</ul>
<p><strong>ЭНЕРГОСБЕРЕГАЮЩИЕ ТЕХНОЛОГИИ:</strong></p>
<ul>
<li>Терморегуляторы, теплосчётчики, системы учёта расхода электроэнергии, газа, воды, ГСМ,    автоматизация, безопасности и средств защиты в строительстве, компьютерные системы в   строительной  индустрии, системы "интеллектуальный дом"</li>
</ul>
<p><strong>ДИЗАЙН, ДЕКОР:</strong></p>
<ul>
<li>Проекты, материалы, товары, декоративные предметы, аксессуары для оформления интерьеров,<br />Камины и печи, Шторы. Жалюзи, Ковры. Напольные покрытия</li>
<li>Интернет-технологии  в архитектурном дизайне</li>
<li>Перепланировка</li>
<li>Спецодежда</li>
</ul>
</strong></p>
LOCATION:Омск, Россия
END:VEVENT
END:VCALENDAR