BEGIN:VCALENDAR
VERSION:2.0
BEGIN:VEVENT
URL:https://masteriya.com/moia-stranitca/viewevent/arkhangelskaia-stroitelnaia-nedelia 
DTSTART:20120411T220000
DTEND:20120413T220000
SUMMARY:АРХАНГЕЛЬСКАЯ СТРОИТЕЛЬНАЯ НЕДЕЛЯ
DESCRIPTION:<table style="width: 100%;" border="0" cellspacing="0" cellpadding="0">
<tbody>
<tr>
<td colspan="4" height="35" align="center" valign="middle"><span style="font-weight: bold; color: #ffffff;">РАЗДЕЛЫ  ВЫСТАВКИ</span></td>
</tr>
<tr>
<td width="5" height="35"></td>
<td style="padding: 15px; line-height: 25px;" colspan="2" align="center" valign="middle">
<table style="width: 100%;" border="0" cellspacing="0" cellpadding="0">
<tbody>
<tr>
<td style="line-height: 25px;" align="left"><span style="color: #0066ff;">
<li>Инженерные системы (отопление, кондиционирование, сантехника, изоляция и др.)</li>
<li>Строительные материалы, конструкции</li>
<li>Отделочные и облицовочные материалы, элементы интерьера</li>
<li>Оборудование для производства стройматериалов</li>
<li>Оборудование для различных отраслей промышленности</li>
<li>Строительные инструменты, приспособления, спецодежда</li>
<li>Дом, мебель, интерьер</li>
<li>Тара, упаковка</li>
</span></td>
</tr>
</tbody>
</table>
</td>
</tr>
</tbody>
</table>
LOCATION:Архангельск, Россия
END:VEVENT
END:VCALENDAR