BEGIN:VCALENDAR
VERSION:2.0
BEGIN:VEVENT
URL:https://masteriya.com/moia-stranitca/viewevent/moi-sad-2012 
DTSTART:20120419T000000
DTEND:20120419T235959
SUMMARY:МОЙ САД 2012
DESCRIPTION:<p><span style="font-size:12px;"><span style="font-family: verdana,geneva,sans-serif;">Тенденции  и иновации в сфере благоустройства сада, огорода и окружающей среды для  каждого садовода, мечтающего, что бы сад расцвел новыми красками</span></span></p>
LOCATION:Клайпеда, Литва
END:VEVENT
END:VCALENDAR