BEGIN:VCALENDAR
VERSION:2.0
BEGIN:VEVENT
URL:https://masteriya.com/moia-stranitca/viewevent/furniture 
DTSTART:20120919T000000
DTEND:20120919T235959
SUMMARY:FURNITURE
DESCRIPTION:<p><strong>Салон мебели:<br /></strong>-  Мебель для жилых помещений:<br />Мягкая,  корпусная, мебельная продукция: для спальни, для обеденной зоны, для  холла и гостиной, для детей, подростков, молодёжная мебель, для кабинета  и домашней  библиотеки, мебель для ванной комнаты, гардеробные,  домашняя барная мебель, мебель для домашних кинотеатров<br />-   Офисная мебель:<br />Мебель для руководителя, персонала, для приёмных;<br />-   Компьютерная мебель<br />-   Мебель для загородных домов, коттеджей, дач.<br />-   Эксклюзивная и элитная мебель (в том числе мебель ручной работы)<br />-   Антикварная мебель<br />-     Мебель для общественных помещений:<br />Мебель  для дошкольных, школьных учреждений, для медицинских учреждений, для  гостиниц, музеев, театров, конференц-залов, баров, ресторанов, игорных  залов<br /><strong>Салон «Всё для производства мебели»:<br /></strong>-     Комплектующие, фурнитура, материалы для производства мебели, ткани для мебели, матрацы; дизайн-ателье<br />-    Инструменты и станки для производства мебели<br />-    Программное обеспеченье для профессионального производства мебели<br /><strong>Салон «Сопутствующие товары»:</strong><br />Свет  в интерьере, камины, лестницы интерьерные, аксессуары и элементы  интерьера (картины, скульптуры, фото дизайн), текстиль в интерьере,  декор окна, зеркала, художественное стекло, витражи</p>
LOCATION:Кишинев, Молдова
END:VEVENT
END:VCALENDAR