BEGIN:VCALENDAR
VERSION:2.0
BEGIN:VEVENT
URL:https://masteriya.com/moia-stranitca/viewevent/moldenergy 
DTSTART:20120314T000000
DTEND:20120314T235959
SUMMARY:MOLDENERGY
DESCRIPTION:<p align="center"><strong>MOLDENERGY<br /></strong>XVI - я Международная  специализированная выставка энергосберегающих технологий, систем  отопления, газоснабжения, кондиционирования воздуха</p>
<p align="center"><br /><strong>ТЕМАТИКА ВЫСТАВКИ: </strong></p>
<ul>
<li>
<div>Электроэнергетика. Теплоэнергетика</div>
</li>
<li>
<div>Источники бесперебойного питания</div>
</li>
<li>
<div>Энергосберегающие технологии и оборудование</div>
</li>
<li>
<div>Возобновляемые источники энергии</div>
</li>
<li>
<div>Трансформаторы, электрощитовое оборудование, регулирующая аппаратура</div>
</li>
<li>
<div>Кабельно-проводниковая продукция</div>
</li>
<li>
<div>Системы вентиляции и кондиционирования воздуха</div>
</li>
<li>
<div>Отопительные системы, оборудование</div>
</li>
<li>
<div>Котельное оборудование</div>
</li>
<li>
<div>Насосы и арматура</div>
</li>
<li>
<div>Системы газоснабжения</div>
</li>
<li>
<div>Трубопроводы</div>
</li>
<li>
<div>Изоляционные материалы, утеплители для труб</div>
</li>
<li>
<div>Контрольно-измерительная аппаратура</div>
</li>
<li>
<div>Счетчики воды и тепла</div>
</li>
<li>
<div>Светотехника</div>
</li>
<li>
<div>Электротехническое оборудование</div>
</li>
<li>
<div>Профессиональный инструмент</div>
</li>
<li>
<div>Экологически чистые технологии</div>
</li>
<li>
<div>Научные исследования и разработки в энергетике</div>
</li>
</ul>
LOCATION:Кишинев, Молдова
END:VEVENT
END:VCALENDAR