BEGIN:VCALENDAR
VERSION:2.0
BEGIN:VEVENT
URL:https://masteriya.com/moia-stranitca/viewevent/moldconstruct 
DTSTART:20120314T000000
DTEND:20120314T235959
SUMMARY:MOLDCONSTRUCT
DESCRIPTION:<p align="center"><strong>MOLDCONSTRUCT - 2012<br /></strong>17-я Международная специализированная выставка архитектуры, строительных технологий, оборудования, инструментов и материалов</p>
<div><span style="font-family: Arial; font-size: x-small;">
<p align="justify">Международная специализированная выставка  архитектуры, строительных технологий, оборудования, инструментов и  материалов “MoldConstruct” <em>проводится одновременно</em> с  Международной специализированной выставкой сберегающих технологий,  систем отопления, газоснабжения, кондиционирования воздуха "Moldenergy".</p>
<p align="justify">Стремительное развитие выставки на протяжении 17 лет,  с момента ее образования, является непосредственным отражением  строительного рынка Молдовы .</p>
<p align="justify">Создание оптимальных условий для установления бизнес  контактов среди специалистов-участников и специалистов, посещающих  выставочное мероприятие, для продвижения новейших строительных  технологий, оборудования и материалов, новинок на молдавский рынокделает  выставку привлекательной как для местных, так и для зарубежных  участников.</p>
</span></div>
LOCATION:Кишинев, Молдова
END:VEVENT
END:VCALENDAR