BEGIN:VCALENDAR
VERSION:2.0
BEGIN:VEVENT
URL:https://masteriya.com/moia-stranitca/viewevent/stroiekspoosen 
DTSTART:20121016T000000
DTEND:20121016T235959
SUMMARY:СТРОЙЭКСПО. ОСЕНЬ
DESCRIPTION:<p><strong>Тематика выставки:</strong></p>
<ul>
<li>Строительные материалы, изделия и конструкции, технологии их производства.</li>
<li>Строительно-столярные изделия и их производство.</li>
<li>Инструменты, оборудование и их практическое применение в строительстве.</li>
<li>Территориальное развитие, градостроительство и архитектура.</li>
<li>Строительство деловых и торговых зданий и сооружений, их архитектура и проектирование.</li>
<li>Архитектура и строительство в сельской местности коттеджей, дачных и садовых домов.</li>
<li>Новые технологии в строительстве и проектировании.</li>
<li>Дизайн и интерьер (мебель, декоративные и отделочные материалы, ковры, напольные и потолочные покрытия).</li>
<li>Бытовая техника.</li>
<li>Осветительное оборудование.</li>
<li>Энерго- и ресурсосбережение.</li>
<li>Техническое оснащение (кондиционеры, системы теплоснабжения,  вентиляции и энергообеспечения, газовое оборудование, информационное  обеспечение строительного комплекса).</li>
<li>Сантехническое оборудование.</li>
<li>Евроремонт и перепланировка зданий.</li>
<li>Механизация в строительстве, эксплуатация и ремонт зданий.</li>
<li>Наружная реклама в архитектуре.</li>
<li>Средства индивидуальной защиты, спецодежда.</li>
<li>Ландшафтное проектирование в архитектуре.</li>
<li>Дорожная и строительная техника.</li>
</ul>
LOCATION:Минск, Белорусь
END:VEVENT
END:VCALENDAR