BEGIN:VCALENDAR
VERSION:2.0
BEGIN:VEVENT
URL:https://masteriya.com/moia-stranitca/viewevent/mebelnye-komponenty-i-materialy-2012 
DTSTART:20120911T000000
DTEND:20120911T235959
SUMMARY:МЕБЕЛЬНЫЕ КОМПОНЕНТЫ И МАТЕРИАЛЫ - 2012
DESCRIPTION:<p><span style="font-family: tahoma,arial,helvetica,sans-serif; font-size: x-small;"><br /><span style="color: #000080;"><strong>Салон мебельных комплектующих и материалов «КОМПОмебель»</strong></span><br /> - Мебельная фурнитура и комплектующие;<br /> - Мебельные материалы, заготовки и полуфабрикаты;<br /> - Клеи, шпатлёвки и лако-красочные материалы;<br /> - Обивочные материалы и аксессуары;<br /> - Декоративные элементы интерьера;<br /> - САПР, АСУ, ПО.<br /><br /><br /><span style="color: #000080;"><strong>Салон офисной и специальной мебели «БИЗНЕСмебель»</strong></span><br /> -Офисная мебель:<br /> Мебель для персонала;<br /> Мебель для руководителей;<br /> Офисные кресла и стулья, мягкая мебель для офиса;<br /> Компьютерные столы;<br /> Офисные перегородки, стойки регистрации.<br /><br /> -Мебель для общественных помещений:<br /> гостиниц, санаториев, домов отдыха, кемпингов;<br /> киноконцертных и конференц-залов, вокзалов и аэропортов;<br /> больниц и поликлиник;<br /> дошкольных и учебных заведений, библиотек и читальных залов;<br /> парикмахерских, салонов красоты, саун;<br /> магазинов, ресторанов, баров, кафе, казино, бильярдных.<br /><br /> -Металлическая мебель:<br /> Металлические шкафы и стеллажи;<br /> Сейфы;<br /> Столы, верстаки.<br /><br /><strong><br /> <span style="color: #000080;">Салон садово-парковой мебели: «ЛЭНДмебель»</span></strong><br /> - Мебель из массива.<br /> - Мебель из лозы и ротанга.<br /> - Шезлонги, скамьи.<br /> - Малые архитектурные формы, перголы, беседки, ограды.</span></p>
LOCATION:Минск, Беларусь
END:VEVENT
END:VCALENDAR