BEGIN:VCALENDAR
VERSION:2.0
BEGIN:VEVENT
URL:https://masteriya.com/moia-stranitca/viewevent/budpragres-2012 
DTSTART:20120904T000000
DTEND:20120904T235959
SUMMARY:БУДПРАГРЭС - 2012
DESCRIPTION:<p><span style="color: #003366;"><strong><span style="font-family: Tahoma,Arial,sans-serif;"><span style="font-size: small;"><span style="font-size: small;">Тематика выставки:</span></span></span></strong></span></p>
<div><span style="font-size: small;"> </span></div>
<div><span style="font-size: small;"> </span></div>
<div><span style="font-size: small;"> </span></div>
<div><span style="color: #333333;"><span style="font-size: small;"> </span></span></div>
<div><span style="font-size: small;"> </span></div>
<div><span style="font-size: small;"> </span></div>
<div><span style="font-size: small;"> </span></div>
<div><span style="color: #333333;"><span style="font-size: small;"> </span></span></div>
<div><span style="font-size: small;"> </span></div>
<div><span style="font-size: small;"> </span></div>
<div><span style="font-size: small;"> </span></div>
<div><span style="color: #333333;"><span style="font-size: small;"> </span></span></div>
<div><span style="font-size: small;"> </span></div>
<div><span style="font-size: small;"> </span></div>
<div><span style="font-size: small;"> </span></div>
<div><span style="font-size: small;"><span style="color: #333333;"><span style="font-size: small;"> </span></span></span></div>
<div><span style="font-size: small;"> </span></div>
<div><span style="font-size: small;"> </span></div>
<div><span style="font-size: small;"> </span></div>
<div><span style="color: #333333;"><span style="font-size: small;"> </span></span></div>
<div><span style="font-size: small;"> </span></div>
<div><span style="font-size: small;"> </span></div>
<div><span style="font-size: small;"> </span></div>
<div><span style="color: #333333;"><span style="font-size: small;"> </span></span></div>
<div><span style="font-size: small;"> </span></div>
<div><span style="font-size: small;"> </span></div>
<div><span style="font-size: small;"> </span></div>
<div><span style="color: #333333;"><span style="font-size: small;"> </span></span></div>
<div><span style="font-size: small;"> </span></div>
<div><span style="font-size: small;"> </span></div>
<div><span style="font-size: small;"> </span></div>
<p><span style="font-family: Tahoma, Arial, sans-serif;"><span style="font-size: small;"><span style="color: #333333;"><span style="font-size: small;"> </span></span></span></span></p>
<div><span style="font-size: small;"> </span></div>
<div><span style="font-size: small;"> </span></div>
<div><span style="font-size: small;"> </span></div>
<div><span style="color: #333333;"><span style="font-size: small;"> </span></span></div>
<div><span style="font-size: small;"> </span></div>
<div><span style="font-size: small;"> </span></div>
<div><span style="font-size: small;"> </span></div>
<div><span style="color: #333333;"><span style="font-size: small;"> </span></span></div>
<div><span style="font-size: small;"> </span></div>
<div><span style="font-size: small;"> </span></div>
<div><span style="font-size: small;"> </span></div>
<div><span style="color: #333333;"><span style="font-size: small;"> </span></span></div>
<div><span style="font-size: small;"> </span></div>
<div><span style="font-size: small;"> </span></div>
<div><span style="font-size: small;"> </span></div>
<div><span style="font-size: small;"><span style="color: #333333;"><span style="font-size: small;"> </span></span></span></div>
<div><span style="font-size: small;"> </span></div>
<div><span style="font-size: small;"> </span></div>
<div><span style="font-size: small;"> </span></div>
<div><span style="color: #333333;"><span style="font-size: small;"> </span></span></div>
<div><span style="font-size: small;"> </span></div>
<div><span style="font-size: small;"> </span></div>
<div><span style="font-size: small;"> </span></div>
<div><span style="color: #333333;"><span style="font-size: small;"> </span></span></div>
<div><span style="font-size: small;"> </span></div>
<div><span style="font-size: small;"> </span></div>
<div><span style="font-size: small;"> </span></div>
<div><span style="color: #333333;"><span style="font-size: small;"> </span></span></div>
<div><span style="font-size: small;"> </span></div>
<div><span style="font-size: small;"> </span></div>
<div><span style="font-size: small;"> </span></div>
<p><span style="font-size: small;"> </span><span style="font-size: small;"> </span><span style="color: #333333;"><span style="font-size: small;"> </span></span><span style="color: #333333;"><span style="font-size: small;"> </span></span><span style="font-size: small;"><span style="color: #333333;"><span style="font-size: small;"> </span></span></span><span style="font-family: Tahoma, Arial, sans-serif;"><span style="font-size: small;"><span style="color: #333333;"><span style="font-size: small;"> - машины, оборудование, средства механизации в строительстве;</span></span></span></span><span style="font-family: Tahoma, Arial, sans-serif;"><span style="font-size: small;"><span style="color: #333333;"><span style="font-size: small;"><br /></span></span></span></span><span style="font-family: Tahoma, Arial, sans-serif;"><span style="font-size: small;"><span style="color: #333333;"><span style="font-size: small;"> - строительные материалы и продукция;</span></span></span></span><span style="font-family: Tahoma, Arial, sans-serif;"><span style="font-size: small;"><span style="color: #333333;"><span style="font-size: small;"><br /></span></span></span></span><span style="font-family: Tahoma, Arial, sans-serif;"><span style="font-size: small;"><span style="color: #333333;"><span style="font-size: small;"> - строительные технологии; </span></span></span></span><span style="font-family: Tahoma, Arial, sans-serif;"><span style="font-size: small;"><span style="color: #333333;"><span style="font-size: small;"><br /></span></span></span></span><span style="font-family: Tahoma, Arial, sans-serif;"><span style="font-size: small;"><span style="color: #333333;"><span style="font-size: small;"> - строительные конструкции; </span></span></span></span><span style="font-family: Tahoma, Arial, sans-serif;"><span style="font-size: small;"><span style="color: #333333;"><span style="font-size: small;"><br /></span></span></span></span><span style="font-family: Tahoma, Arial, sans-serif;"><span style="font-size: small;"><span style="color: #333333;"><span style="font-size: small;"> - инженерные сети и оборудование зданий и сооружений; </span></span></span></span><span style="font-family: Tahoma, Arial, sans-serif;"><span style="font-size: small;"><span style="color: #333333;"><span style="font-size: small;"><br /></span></span></span></span><span style="font-family: Tahoma, Arial, sans-serif;"><span style="font-size: small;"><span style="color: #333333;"><span style="font-size: small;"> - наружное благоустройство; </span></span></span></span><span style="font-family: Tahoma, Arial, sans-serif;"><span style="font-size: small;"><span style="color: #333333;"><span style="font-size: small;"><br /></span></span></span></span><span style="font-family: Tahoma, Arial, sans-serif;"><span style="font-size: small;"><span style="color: #333333;"><span style="font-size: small;"> - строительная и дорожная техника; </span></span></span></span><span style="font-family: Tahoma, Arial, sans-serif;"><span style="font-size: small;"><span style="color: #333333;"><span style="font-size: small;"><br /></span></span></span></span><span style="font-family: Tahoma, Arial, sans-serif;"><span style="font-size: small;"><span style="color: #333333;"><span style="font-size: small;"> - инструмент и оснастка; </span></span></span></span><span style="font-family: Tahoma, Arial, sans-serif;"><span style="font-size: small;"><span style="color: #333333;"><span style="font-size: small;"><br /></span></span></span></span><span style="font-family: Tahoma, Arial, sans-serif;"><span style="font-size: small;"><span style="color: #333333;"><span style="font-size: small;"> - архитектура и проектирование; </span></span></span></span><span style="font-family: Tahoma, Arial, sans-serif;"><span style="font-size: small;"><span style="color: #333333;"><span style="font-size: small;"><br /></span></span></span></span><span style="font-family: Tahoma, Arial, sans-serif;"><span style="font-size: small;"><span style="color: #333333;"><span style="font-size: small;"> - дизайн и интерьер; </span></span></span></span><span style="font-family: Tahoma, Arial, sans-serif;"><span style="font-size: small;"><span style="color: #333333;"><span style="font-size: small;"><br /></span></span></span></span><span style="font-family: Tahoma, Arial, sans-serif;"><span style="font-size: small;"><span style="color: #333333;"><span style="font-size: small;"> - евроремонт; </span></span></span></span><span style="font-family: Tahoma, Arial, sans-serif;"><span style="font-size: small;"><span style="color: #333333;"><span style="font-size: small;"><br /></span></span></span></span><span style="font-family: Tahoma, Arial, sans-serif;"><span style="font-size: small;"><span style="color: #333333;"><span style="font-size: small;"> - осветительное оборудование; </span></span></span></span><span style="font-family: Tahoma, Arial, sans-serif;"><span style="font-size: small;"><span style="color: #333333;"><span style="font-size: small;"><br /></span></span></span></span><span style="font-family: Tahoma, Arial, sans-serif;"><span style="font-size: small;"><span style="color: #333333;"><span style="font-size: small;"> - инженерные работы; </span></span></span></span><span style="font-family: Tahoma, Arial, sans-serif;"><span style="font-size: small;"><span style="color: #333333;"><span style="font-size: small;"><br /></span></span></span></span><span style="font-family: Tahoma, Arial, sans-serif;"><span style="font-size: small;"><span style="color: #333333;"><span style="font-size: small;"> - отопление и вентиляция; </span></span></span></span><span style="font-family: Tahoma, Arial, sans-serif;"><span style="font-size: small;"><span style="color: #333333;"><span style="font-size: small;"><br /></span></span></span></span><span style="font-family: Tahoma, Arial, sans-serif;"><span style="font-size: small;"><span style="color: #333333;"><span style="font-size: small;"> - сантехническое оборудование; </span></span></span></span><span style="font-family: Tahoma, Arial, sans-serif;"><span style="font-size: small;"><span style="color: #333333;"><span style="font-size: small;"><br /></span></span></span></span><span style="font-family: Tahoma, Arial, sans-serif;"><span style="font-size: small;"><span style="color: #333333;"><span style="font-size: small;"> - спецодежда; </span></span></span></span><span style="font-family: Tahoma, Arial, sans-serif;"><span style="font-size: small;"><span style="color: #333333;"><span style="font-size: small;"><br /></span></span></span></span><span style="font-family: Tahoma, Arial, sans-serif;"><span style="font-size: small;"><span style="color: #333333;"><span style="font-size: small;"> - энерго- и ресурсосбережение</span></span></span></span></p>
LOCATION:Минск, Беларусь
END:VEVENT
END:VCALENDAR