BEGIN:VCALENDAR
VERSION:2.0
BEGIN:VEVENT
URL:https://masteriya.com/moia-stranitca/viewevent/voda-i-teplo-2012 
DTSTART:20120522T000000
DTEND:20120522T235959
SUMMARY:ВОДА И ТЕПЛО 2012
DESCRIPTION:<p><strong>ОСНОВНЫЕ РАЗДЕЛЫ ВЫСТАВКИ:</strong><br /> <br /> * Добыча воды: бурение водозаборных скважин, буровые агрегаты, скважинные фильтры<br /> * Водоподготовка и очистка воды: технологии, фильтры, реагенты,  аналитическое и лабораторное оборудование; системы обезжелезивания,  умягчения, опреснения и обессоливания воды; счетчики воды; мембранные  системы; бытовые фильтры; готовая питьевая вода, бутылирование<br /> * Водоотведение и очистка стоков: дождеприемники и системы водоотвода;  технологии, оборудование и материалы для очистки стоков, очистные  сооружения; приборы контроля и учета; технологии обезвоживания и  утилизация шламов<br /> * Проектирование, дизайн; строительные, монтажные, сантехнические, ремонтные и специальные работы<br /> * Сантехника: оборудование и аксессуары для кухни, ванной, туалета;  смесители и краны; душевые и паровые кабины, сауны; бани и аксессуары  для бань, водонагревательная техника; гидро- и аэромассажные системы<br /> <br /> <strong>Салон «ОТОПЛЕНИЕ»:</strong><br /> <br /> котлы, горелки, автоматика; теплосети и системы изоляции теплотрасс;  приборы контроля, учета и регулирования; термотехника, теплообменники,  радиаторы; тепловые пушки, конвекторы, обогреватели, тепловентиляторы,  “теплые полы”, теплогенераторы, тепловые завесы, камины.<br /> <br /> <strong>Салон «НАСОСЫ И БАССЕЙНЫ»:</strong><br /> <br /> насосное оборудование, насосы, автоматика, системы управления и  регулирования, оборудование и аксессуары; системы фильтрации и подогрева  воды; лестницы, горки, водопады; гидромассажные устройства; подсветка;  системы дезинфекции и контроля качества воды; бассейны:  сборно-разборные, надувные, СПА, стационарные; гидроизоляционные  материалы<br /> <br /> <strong>Салон «ТРУБЫ И АРМАТУРА»:</strong><br /> <br /> трубы и трубопроводы, защита трубопроводов от коррозии; трубопроводная  арматура: задвижки, краны, фитинги, приводы для арматуры; КИПиА.<br /> <strong><br /> Салон «КОНДИЦИОНИРОВАНИЕ И ВЕНТИЛЯЦИЯ»:</strong><br /> <br /> системы кондиционирования, вентиляции и искусственного охлаждения;  кондиционеры, климатическая техника; ионизаторы; воздуховоды; системы  пылеудаления и фильтрации воздуха<br /> <br /> Организатор: выставочное предприятие «ЭКСПОФОРУМ». Поддержку оказывают  Министерство жилищно-коммунального хозяйства Республики Беларусь,  Министерство природных ресурсов и охраны окружающей среды, Минский  городской исполнительный комитет.<br /> <br /> Традиционно в рамках выставки «Вода и тепло» 18 апреля состоится   конгресс «Вода-2012» по проблемам водоснабжения, водоотведения и очистки  стоков.</p>
LOCATION:Минск, Беларусь
END:VEVENT
END:VCALENDAR