BEGIN:VCALENDAR
VERSION:2.0
BEGIN:VEVENT
URL:https://masteriya.com/moia-stranitca/viewevent/kievskii-mezhdunarodnyi-mebelnyi-forum 
DTSTART:20120314T000000
DTEND:20120314T235959
SUMMARY:Киевский международный мебельный форум
DESCRIPTION:<p><strong>Киевский международный мебельный форум</strong> (<strong>Kyiv International Furniture Forum, KIFF</strong>)  – самое масштабное событие в сфере дизайна, объединяющее поставщиков и  производителей мебели, освещения, предметов декора, лучших дизайнеров и  архитекторов из Украины, Италии, Германии, Румынии, Турции, Польши,  России, Латвии, Эстонии, Австрии и других стран, а также ритейлеров и  владельцев HoReCa-бизнеса.</p>
LOCATION:Киев, Украина
END:VEVENT
END:VCALENDAR