BEGIN:VCALENDAR
VERSION:2.0
BEGIN:VEVENT
URL:https://masteriya.com/moia-stranitca/viewevent/mebelnyi-forum 
DTSTART:20120502T000000
DTEND:20120502T235959
SUMMARY:МЕБЕЛЬНЫЙ ФОРУМ
DESCRIPTION:<p><strong>В программе форума пять выставок:</strong></p>
<ul>
<li>«МИНСКИЙ МЕБЕЛЬНЫЙ САЛОН», 18–я международная выставка мебели, интерьера и сопутствующих товаров </li>
<li>«МЕБЕЛЬНЫЕ ТЕХНОЛОГИИ», 9–я международная выставка материалов, комплектующих и оборудования для производства мебели </li>
<li>«ОфисКомфорт», 6–й международный специализированный салон мебели для офисов, банков, бизнес-центров и административных зданий </li>
<li>«Кухня & Ванная», 10–й специализированный салон кухонной мебели, сопутствующих изделий для обустройства кухни и ванной</li>
<li>«Домотех», 10-й международный специализированный салон бытовой техники </li>
</ul>
LOCATION:Минск, Беларусь
END:VEVENT
END:VCALENDAR