BEGIN:VCALENDAR
VERSION:2.0
BEGIN:VEVENT
URL:https://masteriya.com/moia-stranitca/viewevent/belorusskaia-stroitelnaia-nedelia-okna-dveri-kryshi-2012 
DTSTART:20120417T000000
DTEND:20120417T235959
SUMMARY:"Белорусская строительная неделя" Окна. Двери. Крыши-2012
DESCRIPTION:<p>http://minskexpo.com/r_calendar2012_12</p>
<p><span style="font-family: tahoma,arial,helvetica,sans-serif; font-size: x-small;"><span style="color: #000080;"><span style="font-family: tahoma,arial,helvetica,sans-serif; font-size: x-small;"><strong>"ОКНА. ДВЕРИ. КРЫШИ"</strong></span></span></span></p>
<p><span style="font-family: tahoma,arial,helvetica,sans-serif; font-size: x-small;"><span style="font-family: tahoma,arial,helvetica,sans-serif; font-size: x-small;"><br />- Окна из дерева, ПВХ, алюминия.<br /><br />- Светопрозрачные конструкции для стен, перегородок, фасадов, крыш, козырьков, навесов, оранжерей и т.д.<br /><br />- Перегородки. Быстровозводимые легкие конструкции.<br /><br />- Стекло тонированное, зеркальное, энергосберегающее, пулестойкое, жаростойкое, ударопрочное. Триплекс. <br /><br />- Жалюзи, рольставни, роллеты, декоративные решетки, подоконники.<br /><br />- Двери из различных материалов: входные, межкомнатные, балконные.<br /><br />- Двери промышленные: вращающиеся и автоматические, бронированные, огнезащитные, звукоизоляционные, противовзломные.<br /><br />- Ворота: подъемные, секционные, радиоуправляемые, распашные. Приводы, шлагбаумы.<br /><br />- Технологии, оборудование и инструмент для производства и монтажа окон и дверей.<br /><br />- Кровельные, теплоизоляционные и гидроизоляционные материалы. Технологии и оборудование для их производства. </span><span style="font-family: tahoma,arial,helvetica,sans-serif; font-size: x-small;"><br /><br /></span></span></p>
<p><span style="font-family: tahoma,arial,helvetica,sans-serif; font-size: x-small;"><span style="color: #000080;"><span style="font-family: tahoma,arial,helvetica,sans-serif; font-size: x-small;"><strong> "СТРОИТЕЛЬНЫЕ МАТЕРИАЛЫ И ПРОДУКЦИЯ"</strong></span></span></span></p>
<p><span style="font-family: tahoma,arial,helvetica,sans-serif; font-size: x-small;"><span style="font-family: tahoma,arial,helvetica,sans-serif; font-size: x-small;"><br />- Блоки строительные, кирпич облицовочный.<br /><br />- Ламинированный паркет, линолеум, теплые полы, сопутствующие материалы для их укладки<br /><br />- Монтажная пена, силиконы, жидкие гвозди, пистолеты, ленты.<br /><br />- Осветительное оборудование.<br /><br />- Отделочные материалы.<br /><br />- Пластиковые панели, подвесные потолки.<br /><br />- Профили и крепеж, стеновые панели.<br /><br />- Пены и герметики.<br /><br />- Строительные смеси, сухие смеси, клей, краски, лаки.<br /><br />- Теплоизоляция, утеплитель, фанера.<br /><br />- Электроинструмент, электрика.<br /><br />- Пиломатериалы: вагонка, доска, брус.</span></span></p>
<p><span style="font-family: tahoma,arial,helvetica,sans-serif; font-size: x-small;">- Натуральный и искусственный камень и изделия из него</span></p>
<p><span style="font-family: tahoma,arial,helvetica,sans-serif; font-size: x-small;">- Изделия из металла, заборы, ворота, калитки, роллеты<span style="font-family: tahoma,arial,helvetica,sans-serif; font-size: x-small;"><br /><br /><br /></span><span style="font-family: tahoma,arial,helvetica,sans-serif; font-size: x-small;"><strong> <span style="color: #000080;">"САНТЕХНИЧЕСКОЕ ОБОРУДОВАНИЕ"</span></strong></span></span></p>
<p><span style="font-family: tahoma,arial,helvetica,sans-serif; font-size: x-small;">- Сантехника, сантехнические изделия и оборудование, трубы, фитинги<span style="font-family: tahoma,arial,helvetica,sans-serif; font-size: x-small;"><span style="color: #000080;"><strong><br /></strong><strong> </strong><br /><br /></span></span><span style="color: #000080;"><span style="font-family: tahoma,arial,helvetica,sans-serif; font-size: x-small;"><strong> "ИНСТРУМЕНТЫ. КРЕПЕЖ"</strong><strong><br /></strong><br /><br /></span><span style="font-family: tahoma,arial,helvetica,sans-serif; font-size: x-small;"><strong> "НАРУЖНОЕ БЛАГОУСТРОЙСТВО"</strong></span></span></span></p>
<p><span style="font-family: tahoma,arial,helvetica,sans-serif; font-size: x-small;">- Проекты строительства и реконструкции индивидуальных домов, строительные услуги</span></p>
<p><span style="font-family: tahoma,arial,helvetica,sans-serif; font-size: x-small;">-  Дизайнерские проекты интерьеров, реконструкции и перепланировка,  согласование, консультации по отделке и услуги по ремонту жилых  помещений.</span></p>
<p><span style="font-family: tahoma,arial,helvetica,sans-serif; font-size: x-small;"><span style="color: #000080;"><span style="font-family: tahoma,arial,helvetica,sans-serif; font-size: x-small;"><br /></span><span style="font-family: tahoma,arial,helvetica,sans-serif; font-size: x-small;"><strong> "ОТОПЛЕНИЕ И ВЕНТИЛЯЦИЯ"</strong></span></span></span></p>
<p><span style="font-family: tahoma,arial,helvetica,sans-serif; font-size: x-small;">- Отопительное оборудование, котлы на твердом, жидком, газообразном топливе, тепловые насосы, тепловентиляторы, радиаторы</span></p>
<p><span style="font-family: tahoma,arial,helvetica,sans-serif; font-size: x-small;">- Системы вентиляции, кондиционеры оконные, мобильные</span></p>
<p><span style="font-family: tahoma,arial,helvetica,sans-serif; font-size: x-small;"><span style="font-family: tahoma,arial,helvetica,sans-serif; font-size: x-small;"><span style="color: #000080;"><br /> <strong>"СТРАХОВАНИЕ В СТРОИТЕЛЬСТВЕ. КОМПЛЕКСНЫЕ ПРОГРАММЫ"</strong></span><br /><span style="color: #000080;"><br /></span></span></span></p>
LOCATION:Минск, Беларусь
END:VEVENT
END:VCALENDAR